BEGIN:VCALENDAR
VERSION:1.0
PRODID:Open2CKalenderExportV11
BEGIN:VEVENT
DTSTAMP:20260115T094051Z
DTSTART:20260511T193000Z
DTEND:20260511T193000Z
SUMMARY:Sitzung Gemeinderat Aham
DESCRIPTION: | Organisator   Gemeinde Aham
LOCATION:Sitzungssaal
 Lerchenhof Aham
 Am Lerchenfeld 1
 84168 Aham
UID:4c2d403b11a8da4738e3ee0de9d4342d-07d9e6ef2b4d9edbf9a421a60d2b9124
PRIORITY:3
END:VEVENT
BEGIN:VEVENT
DTSTAMP:20260115T101512Z
DTSTART:20260518T190000Z
DTEND:20260518T190000Z
SUMMARY:Sitzung Gemeinderat Gerzen
DESCRIPTION: | Organisator   Gemeinde Gerzen
LOCATION:Sitzungssaal Rathaus Gerzen
 Rathausplatz 1
 84175 Gerzen
UID:4f5f71919634f417f8ed993d0b2a2f02-5a0441873c40b750af89b35b2f2b84e9
PRIORITY:3
END:VEVENT
BEGIN:VEVENT
DTSTAMP:20260115T100135Z
DTSTART:20260526T190000Z
DTEND:20260526T190000Z
SUMMARY:Sitzung Gemeinderat Schalkham
DESCRIPTION: | Organisator   Gemeinde Schalkham
LOCATION:Alte Schule Johannesbrunn
 Pelzgartenstraße 3
 84175 Schalkham
UID:6e4df8593694515b2081f88bcba9b1ea-e5746eca4c478babed04cc6a6a17c5ad
PRIORITY:3
END:VEVENT
END:VCALENDAR
