BEGIN:VCALENDAR
VERSION:1.0
PRODID:Open2CKalenderExportV11
BEGIN:VEVENT
DTSTAMP:20260115T101906Z
DTSTART:20260921T190000Z
DTEND:20260921T190000Z
CATEGORIES:Sitzungen
SUMMARY:Sitzung Gemeinderat Gerzen
DESCRIPTION: | Organisator   Gemeinde Gerzen
LOCATION:Sitzungssaal Rathaus Gerzen
 Rathausplatz 1
 84175 Gerzen
UID:0efb442d3ccb9140f2a6d735e37e0824-5a0441873c40b750af89b35b2f2b84e9
PRIORITY:3
END:VEVENT
END:VCALENDAR
