BEGIN:VCALENDAR
VERSION:2.0
PRODID:< http://www.open2c.de/ >
METHOD:PUBLISH
X-PUBLISHED-TTL:PT12H
BEGIN:VEVENT
CREATED:20260115T100157Z
LAST-MODIFIED:20260115T100239Z
ORGANIZER;CN="Gemeinde Schalkham"
DTSTAMP:20260420T082404Z
DTSTART;VALUE=DATE:20260630
CATEGORIES:Sitzungen
SUMMARY:Sitzung Gemeinderat Schalkham
DESCRIPTION:Organisator Gemeinde Schalkham
LOCATION:Alte Schule Johannesbrunn\nPelzgartenstraße 3\n84175 Schalkham
UID:a3ab03aad80f4c8144cbee92c37cac23@00a8bd58e5201fb9561b56fd9f763188
END:VEVENT
END:VCALENDAR